BEGIN:VCALENDAR
VERSION:2.0
PRODID:-//VSC - ECPv6.9.1//NONSGML v1.0//EN
CALSCALE:GREGORIAN
METHOD:PUBLISH
X-WR-CALNAME:VSC
X-ORIGINAL-URL:https://vsc.net.vn
X-WR-CALDESC:Events for VSC
REFRESH-INTERVAL;VALUE=DURATION:PT1H
X-Robots-Tag:noindex
X-PUBLISHED-TTL:PT1H
BEGIN:VTIMEZONE
TZID:UTC
BEGIN:STANDARD
TZOFFSETFROM:+0000
TZOFFSETTO:+0000
TZNAME:UTC
DTSTART:20210101T000000
END:STANDARD
TZID:Asia/Krasnoyarsk
BEGIN:STANDARD
TZOFFSETFROM:+0700
TZOFFSETTO:+0700
TZNAME:+07
DTSTART:20210101T000000
END:STANDARD
END:VTIMEZONE
BEGIN:VEVENT
DTSTART;TZID=UTC:20530305T000000
DTEND;TZID=UTC:20541209T235900
DTSTAMP:20260425T174505
CREATED:20210531T135044Z
LAST-MODIFIED:20210705T055724Z
UID:5021-2624745600-2680473540@vsc.net.vn
SUMMARY:Xây dựng thương hiệu cá nhân bền vững
DESCRIPTION:Mục tiêu chương trình:\n\nHiểu được tầm quan trọng của việc xây dựng hình ảnh thương hiệu đối với việc\n• kinh doanh.\n\nHiểu được thế nào là xây dựng thương hiệu cá nhân.\nGây dựng được niềm tin cho khách hàng thông qua thương hiệu cá nhân.\n\nNội dung chương trình:\n\nTại sao phải xây dựng thương hiệu cá nhân?\nXây dựng thương hiệu cá nhân là gì?\nQuy trình 5 bước xây dựng thương hiệu cá nhân trên MXH\nNhững điều cần lưu ý\nCác công cụ hỗ trợ xây dựng hình ảnh\n\n 
URL:https://vsc.net.vn/lich-dao-tao/xay-dung-thuong-hieu-ca-nhan-ben-vung/
CATEGORIES:Kĩ Năng Mềm
ATTACH;FMTTYPE=image/jpeg:https://vsc.net.vn/wp-content/uploads/2018/01/1073415878_Business-Associate-1.jpg
END:VEVENT
BEGIN:VEVENT
DTSTART;TZID=UTC:20530305T000000
DTEND;TZID=UTC:20541209T235900
DTSTAMP:20260425T174505
CREATED:20210531T134951Z
LAST-MODIFIED:20210705T055733Z
UID:5017-2624745600-2680473540@vsc.net.vn
SUMMARY:Nghệ thuật giao tiếp trong môi trường doanh nghiệp
DESCRIPTION:Mục tiêu chương trình:\n\nHiểu được tầm quan trọng của việc giao tiếp chuyên nghiệp\nXây dựng được phong thái giao tiếp lịch thiệp\, tự tin\nBiết cách giao tiếp chuẩn mực đối với từng đối tượng: Cấp trên – Cấp dưới – Đồng nghiệp – Đối tác và khách hàng\nXây dựng được phong thái tự tin\, biết cách ăn vận phù hợp với từng môi trường làm việc\nThấu hiểu tính cách người đối diện để có phương pháp giao tiếp hiệu quả\nĐặc biệt: Xây dựng được hình ảnh cá nhân uy tín\, nền tảng tạo ra những mối quan hệ chất lượng\, bền chặt\n\nNội dung chương trình:\n\nLý do tại sao giao tiếp kém hiệu quả\nCái bẫy trong quan hệ\n03 hành động giao tiếp chính trực\nCông thức chỉ ra nguồn gốc hành động\nVăn hóa giao tiếp trong doanh nghiệp\nVăn hóa chào hỏi\nVăn hóa bắt tay\nNhững chữ C cải thiện quan hệ\n09 nguyên tác giao tiếp Đắc nhân tâm\n\n 
URL:https://vsc.net.vn/lich-dao-tao/nghe-thuat-giao-tiep-trong-moi-truong-doanh-nghiep/
CATEGORIES:Kĩ Năng Mềm
ATTACH;FMTTYPE=image/jpeg:https://vsc.net.vn/wp-content/uploads/2018/01/1073415878_Business-Associate-1.jpg
END:VEVENT
BEGIN:VEVENT
DTSTART;TZID=Asia/Krasnoyarsk:20530305T000000
DTEND;TZID=Asia/Krasnoyarsk:20540304T235900
DTSTAMP:20260425T174505
CREATED:20210528T061235Z
LAST-MODIFIED:20210705T055754Z
UID:4515-2624745600-2656281540@vsc.net.vn
SUMMARY:Nghệ thuật gây dựng đội ngũ trung thành
DESCRIPTION: Mục tiêu chương trình:\n\nXây dựng được tư duy tích cực cho học viên.\nGiúp học viên hiểu rõ vai trò cá nhân trong quá trình thực hiện nghiệp vụ quản lý\, nắm vững tâm thức lãnh đạo.\nGiúp học viên gỡ bỏ những khúc mắc\, rào cản và “sóng ngầm” trong quan hệ công việc hàng ngày với cấp trên và đồng nghiệp.\nGiúp học viên gắn kết được lý tưởng\, mục tiêu sống và sứ mệnh cá nhân với định hướng phát triển của doanh nghiệp.\nGắn kết học viên với nhau\, tạo sức mạnh tập thể để đạt được mục tiêu chung.\n\nNội dung chương trình:\n\nTìm hiểu 4 cấp độ tình cảm của nhân viên đối với công việc.\nHệ công thức SLC và SCL.\nBài tập về giao thức: “Khen – Góp ý” cấp độ 1: \n Sức mạnh của những tờ giấy A4.\nNhững chữ C quan trọng giúp cải thiện mối quan hệ.\nPhân biệt các hệ khái niệm:\nSự cống hiến và sự hy sinh.\nGương và Mẫu.\nKhen và Thưởng.\nVận dụng triết lý viên kẹo.\nBài tập về giao thức: “Khen – Góp ý” cấp độ 2: \n Sức mạnh của Sự sẵn lòng và Tính chính trực.\n\n 
URL:https://vsc.net.vn/lich-dao-tao/nghe-thuat-gay-dung-doi-ngu-trung-thanh/
CATEGORIES:Quản Lý - Lãnh Đạo
ATTACH;FMTTYPE=image/jpeg:https://vsc.net.vn/wp-content/uploads/2016/08/1073415878_Business-Associate.jpg
END:VEVENT
BEGIN:VEVENT
DTSTART;TZID=Asia/Krasnoyarsk:20530305T000000
DTEND;TZID=Asia/Krasnoyarsk:20540304T235900
DTSTAMP:20260425T174505
CREATED:20160819T174751Z
LAST-MODIFIED:20210705T055806Z
UID:2327-2624745600-2656281540@vsc.net.vn
SUMMARY:Kỹ năng phỏng vấn lựa chọn ứng viên
DESCRIPTION:Mục tiêu chương trình:\n\nGiúp bạn tiến hành các cuộc phỏng vấn hiệu quả hơn\n\nNội dung chương trinh:\n\nNhận biết các vấn đề thường phát sinh liên quan đến phỏng vấn\nXác định các hình thức và phương pháp phỏng vấn\nLập kế hoạch chiến lược phỏng vấn hiệu quả\nXây dựng kịch bản câu hỏi để có buổi phỏng vấn tốt\nTiến hành phỏng vấn thành công\nThực hiện các kỹ thuật giao tiếp tránh gây phân biệt đối xử và mâu thuẫn khi phỏng vấn
URL:https://vsc.net.vn/lich-dao-tao/ky-nang-phong-van-lua-cho%cc%a3n-ung-vien/
CATEGORIES:Quản Trị Nhân Sự
ATTACH;FMTTYPE=image/jpeg:https://vsc.net.vn/wp-content/uploads/2018/01/1073415878_Business-Associate-1.jpg
END:VEVENT
BEGIN:VEVENT
DTSTART;TZID=UTC:20530305T000000
DTEND;TZID=UTC:20540302T235900
DTSTAMP:20260425T174505
CREATED:20210531T141634Z
LAST-MODIFIED:20210705T055813Z
UID:5057-2624745600-2656108740@vsc.net.vn
SUMMARY:Professional Selling Skills
DESCRIPTION:Mục tiêu chương trình:\n\n\n\nGiúp học viên hiểu rõ việc bán hàng và có cảm hứng với việc bán hàng.\nGiúp học viên bán hàng hiệu quả chỉ với 4 bước đơn giản\, dễ nhớ.\nĐọc vị hành vi khách hàng để thấu hiểu tâm lý\, tiếp cận khách hàng tự tin\, chuyên nghiệp.\n\n\n\n\nGiao tiếp chuyên nghiệp và xử lý khéo léo trong quá trình tư vấn bán hàng.\nBiết và tránh được các lỗi và những tình huống phát sinh thường gặp trong quá trình bán hàng.\nCó thêm nhiều phương pháp chốt sale hiệu quả để gia tăng doanh số.\nXây dựng được hình ảnh uy tín và sự tự tin\, chuyên nghiệp của bản thân gắn với hình ảnh thương hiệu doanh nghiệp.\n\nNội dung chương trình:\n\n4 vùng tư duy.\nTổng quan về tư vấn – bán hàng\nQuy trình bán hàng.\nTriết lý bán hàng của Zig Ziglar.\nBán hàng hiệu quả bằng công thức C+.\nTrang phục\, ngoại hình\, thần thái\, diện mạo tự tin\, cá tính và phù hợp.\nQuy trình bán hàng 04 bước.\nCác kỹ thuật bán hàng.\nThấu hiểu khách hàng bằng D.I.S.C\nTiến trình xử lý phản đối trong bán hàng\n8 kỹ thuật chốt sale\nThực hành có chỉnh sửa ngay tại chỗ của Trainer.\nTóm tắt khóa học.\n\n 
URL:https://vsc.net.vn/lich-dao-tao/professional-selling-skills/
CATEGORIES:Sales & Marketing
ATTACH;FMTTYPE=image/jpeg:https://vsc.net.vn/wp-content/uploads/2018/01/1073415878_Business-Associate-1.jpg
END:VEVENT
BEGIN:VEVENT
DTSTART;TZID=Asia/Krasnoyarsk:20530305T000000
DTEND;TZID=Asia/Krasnoyarsk:20540302T235900
DTSTAMP:20260425T174505
CREATED:20210531T134416Z
LAST-MODIFIED:20210705T055822Z
UID:5004-2624745600-2656108740@vsc.net.vn
SUMMARY:Ứng viên tự tin – Deal lương thông minh
DESCRIPTION:Mục tiêu chương trình: \n\nHọc viên nắm được trình tự tạo một bộ hồ sơ ứng tuyển chuyên nghiệp\nHọc viên biết cách tạo cho bộ hồ sơ của mình ấn tượng với nhà tuyển dụng\nBiết cách đánh giá\, nhận xét một bộ hồ sơ hoàn chỉnh cần bỏ gì vào trong đó\nHiểu và nắm được tầm quan trọng của bộ hồ sơ ứng tuyển\nBiết cách chuẩn bị tâm thế\, tác phong khi đi phỏng vấn\nBiết cách sử dụng ngôn ngữ hình thể\, trang phục phù hợp trong quá trình phỏng vấn\nTrả lời khéo léo các câu hỏi khó và đàm phán lương hiệu quả.\nPhương pháp kết thúc phỏng vấn để lại hình ảnh đẹp trong mắt nhà tuyển dụng.\n\nNội dung chương trình: \n\nXây dựng thương hiệu cá nhân\n\nKhái niệm thương hiệu cá nhân\n03 yếu tố hình thành nhân hiệu\nXây dựng thương hiệu online thế nào?\nTest tính cách DISC\n03 tố chất của người thành công\nCông việc “tốt nhất” và công việc “phù hợp nhất”\nCác tiêu chí lựa chọn một công việc phù hợp với thương hiệu cá nhân”\n\n\nSự khác nhau giữa Tìm việc – Xin việc và Ứng tuyển\n\nPhân biệt các loại chứng từ\nXu hướng gửi hồ sơ ứng tuyển hiện nay là gì?\nPhương pháp gửi mail chuyên nghiệp\nTầm quan trọng của… cái bìa.\nXây dựng nội dung thư ứng tuyển\nXây dựng CV chuyên nghiệp\nCác lỗi thường gặp trong quá trình chuẩn bị hồ sơ\nThực hành xây dựng hồ sơ cá nhân tại lớp\n\n\nNghệ thuật trả lời phỏng vấn và đàm phán lương hiệu quả\n\nCác hình thức phỏng vấn và chuẩn bị trước khi phỏng vấn\n3 giai đoạn Trước – Trong và Sau phỏng vấn\nTrang phục khi phỏng vấn – ăn mặc như thế nào?\nMô tả quá trình phỏng vấn và các câu hỏi thường gặp\nMột số mẹo và lưu ý khi trả lời và đặt câu hỏi cho nhà tuyển dụng\nCách ứng xử nào bị đánh giá tệ nhất\nMột số nguyên tắc khi đi phỏng vấn\nHạn chế của bạn trẻ vừa ra trường và cách khắc phục\nCác lưu ý khi đi phỏng vấn
URL:https://vsc.net.vn/lich-dao-tao/ung-vien-tu-tin-deal-luong-thong-minh/
CATEGORIES:Quản Trị Nhân Sự
ATTACH;FMTTYPE=image/jpeg:https://vsc.net.vn/wp-content/uploads/2018/01/1073415878_Business-Associate-1.jpg
END:VEVENT
BEGIN:VEVENT
DTSTART;TZID=Asia/Krasnoyarsk:20530305T000000
DTEND;TZID=Asia/Krasnoyarsk:20540302T235900
DTSTAMP:20260425T174505
CREATED:20210531T133937Z
LAST-MODIFIED:20210705T055911Z
UID:4994-2624745600-2656108740@vsc.net.vn
SUMMARY:Nghệ thuật chốt sales bằng DISC
DESCRIPTION:Mục tiêu chương trình:\n\nHiểu được vì sao bản thân chốt sale không hiệu quả\nHiểu được các loại tính cách trong D.I.S.C để biết cách giao tiếp hiệu quả\nNhận diện được đặc điểm tính cách từng nhóm người\nChốt sale hiệu quả đối với từng nhóm tính cách\n\nNội dung chương trình:\n\nGiải thích về D.I.S.C \n4 nhóm tính cách trong D.I.S.C\nNhận diện từng nhóm tính cách trong D.I.S.C\nCác kỹ thuật chốt sale phù hợp với từng nhóm tính cách\n10 kỹ năng giúp chốt sale hiệu quả
URL:https://vsc.net.vn/lich-dao-tao/nghe-thuat-chot-sales-bang-disc/
CATEGORIES:Sales & Marketing
ATTACH;FMTTYPE=image/jpeg:https://vsc.net.vn/wp-content/uploads/2018/01/1073415878_Business-Associate.jpg
END:VEVENT
BEGIN:VEVENT
DTSTART;TZID=UTC:20530305T000000
DTEND;TZID=UTC:20540302T235900
DTSTAMP:20260425T174505
CREATED:20180819T174747Z
LAST-MODIFIED:20210705T055918Z
UID:2286-2624745600-2656108740@vsc.net.vn
SUMMARY:Gungho bí quyết phát huy nhiệt huyết nhân viên
DESCRIPTION:Mục tiêu chương trình:\n\nXây dựng được tư duy tích cực cho học viên.\nGiúp học viên hiểu rõ vai trò cá nhân trong quá trình thực hiện nghiệp vụ quản lý\, nắm vững tâm thức lãnh đạo\nGiúp học viên gỡ bỏ những khúc mắc\, rào cản và “sóng ngầm” trong quan hệ công việc hàng ngày với cấp trên và đồng nghiệp\nGiúp học viên gắn kết được lý tưởng\, mục tiêu sống và sứ mệnh cá nhân với định hướng phát triển của doanh nghiệp.\nGắn kết học viên với nhau\, tạo sức mạnh tập thể để đạt được mục tiêu chung.\n\nNội dung chương trình:\nPhần 01: Motivation – Hiểu đúng người giao đúng việc \n\nĐánh giá năng lực nhân viên\nQuy trình tạo động lực\nPhương pháp tạo động lực\n\nPhần 02: Gung Ho – Bí quyết phát huy nhiệt huyết nhân viên \n\nTruyền lửa cho nhân viên\nChủ động kiểm soát công việc\nKhích lệ\, động viên đúng thời điểm\n\n 
URL:https://vsc.net.vn/lich-dao-tao/gungho-bi-quyet-phat-huy-nhiet-huyet-nhan-vien/
CATEGORIES:Quản Lý - Lãnh Đạo
ATTACH;FMTTYPE=image/jpeg:https://vsc.net.vn/wp-content/uploads/2016/08/1073415878_Business-Associate.jpg
END:VEVENT
BEGIN:VEVENT
DTSTART;TZID=Asia/Krasnoyarsk:20530205T000000
DTEND;TZID=Asia/Krasnoyarsk:20550319T235900
DTSTAMP:20260425T174505
CREATED:20180111T045456Z
LAST-MODIFIED:20210705T060003Z
UID:3658-2622326400-2689113540@vsc.net.vn
SUMMARY:Train the trainer Basic Level_Presentation Skills
DESCRIPTION:Mục tiêu chương trình:\n\nHọc viên nắm được cách trình bày\, thuyết trình hiệu quả và chuyên nghiệp tạo ấn tượng người nghe.\nBiết cách thiết kế file powerpoint trình bày và các công cụ hỗ trợ một cách chuyên nghiệp.\nXây dựng được bố cục khoa học\, chặt chẽ và hợp lý cho bài trình bày.\nĐọc vị hành vi để thấu hiểu tâm lý người tham gia\, có phương pháp dẫn dắt hấp dẫn\, lôi cuốn.\nSử dụng hiệu quả ngôn ngữ cơ thể minh họa trong lúc thuyết trình.\nBiết và tránh được các lỗi và những tình huống phát sinh thường gặp trong quá trình trình bày.\nXây dựng được hình ảnh uy tín và sự tự tin\, chuyên nghiệp của bản thân sau mỗi lần trình bày.\n\nNội dung chương trinh:\n\nThiết kế nội dung bài thuyết trình để chiến thắng và tạo ấn tượng\nTài liệu\, hậu cần và phương tiện Media cho bài trình bày/thuyết trình\nKỹ năng trình bày chuyên nghiệp – Mở đầu\nKỹ năng trình bày chuyên nghiệp – Hiệu quả\nThực hành có chỉnh sửa ngay tại chỗ của Trainer.    
URL:https://vsc.net.vn/lich-dao-tao/train-the-trainer-basic-level_presentation-skills-2/
CATEGORIES:Kĩ Năng Mềm
ATTACH;FMTTYPE=image/jpeg:https://vsc.net.vn/wp-content/uploads/2018/01/1073415878_Business-Associate.jpg
END:VEVENT
BEGIN:VEVENT
DTSTART;VALUE=DATE:20530205
DTEND;VALUE=DATE:20541112
DTSTAMP:20260425T174505
CREATED:20210531T135311Z
LAST-MODIFIED:20210705T060013Z
UID:5031-2622326400-2678054399@vsc.net.vn
SUMMARY:Tổ chức công việc và quản lý hiệu suất theo PDCA
DESCRIPTION:Mục tiêu chương trình:\n\n\nMang lại hiệu quả cao hơn trong việc thực hiện các dự án và hoạt động trong doanh nghiệp\, giúp doanh nghiệp lập kế hoạch tốt hơn và phát hiện lỗi sai nhanh chóng.\nGiúp doanh nghiệp cải tiến quy trình vận hành để mang lại kết quả cao hơn\, tăng hiệu suất\, giảm chi phí\, tối ưu hóa năng suất và nâng cao lợi nhuận.\nCung cấp sự cải tiến liên tục. Mỗi dự án có thể trải qua nhiều lần cho một giai đoạn\, để đảm bảo các sai sót có thể sửa chữa và điều chỉnh sao cho phù hợp với nhu cầu và tình hình thực tế của doanh nghiệp.\nGiúp người quản lý ra quyết định dễ dàng hơn dựa trên những thông tin được thu thập và phân tích\nHạn chế rủi ro trong quản lý dự án.\nNâng cao năng lực cạnh tranh của tổ chức.\n\nNội dung chương trình:\n\nPhần 01: Mô hình quản lý theo PDCA\n\n\n\nGiới thiệu mô hình PDCA\nCác ứng dụng của mô hình PDCA\n\n\n\n\nPhần 02: Thực hiện PDCA\n\n\n\nPlan – Lập kế hoạch\nDo – Thực hiện\nCheck – Kiểm tra/ Kiểm soát\nAct – Thực hiện thay đổi/ Cải tiến\nÁp dụng PDCA\n\n\n\n\nPhần 03: Kỹ năng cần thiết khi thực hiện PDCA\n\n\n\nPhân tích tình huống\nGiao tiếp trong tiến trình PDCA\nQuản lý thời gian và tiến độ\nGiám sát và quản trị sự thay đổi\nThe Quick Fix – Xử lý nhanh\nKỹ thuật 1: Brainstorming\nKỹ thuật 2: Cause and effect – Nhân quả\nKỹ thuật 3: Check sheets – Phiếu ghi chép\nKỹ thuật 4: Pareto analysis\nPhản hồi\nRecap
URL:https://vsc.net.vn/lich-dao-tao/to-chuc-cong-viec-va-quan-ly-hieu-suat-theo-pdca/
CATEGORIES:Kĩ Năng Mềm
ATTACH;FMTTYPE=image/jpeg:https://vsc.net.vn/wp-content/uploads/2018/01/1073415878_Business-Associate-1.jpg
END:VEVENT
BEGIN:VEVENT
DTSTART;VALUE=DATE:20530204
DTEND;VALUE=DATE:20540203
DTSTAMP:20260425T174505
CREATED:20210531T134603Z
LAST-MODIFIED:20210705T060043Z
UID:5010-2622240000-2653689599@vsc.net.vn
SUMMARY:Nghệ thuật truyền lửa trao quyền\, giao việc
DESCRIPTION:Mục tiêu chương trình: \n\nĐánh giá hiệu quả công việc của nhân viên trong quá khứ\, hiện tại\nĐánh giá những thành quả\, cống hiến\, đóng góp của nhân viên\nNhận xét những mặt hạn chế\, cần khắc phục và cải thiện\n\nXác định tiềm năng phát triển của nhân viên\n\nMô tả được công việc cụ thể\, rõ ràng cho từng cá nhân\, bộ phận\, gắn liền với mục tiêu chung của doanh nghiệp\nNhìn ra được những nhân tố tiềm năng\, phù hợp cho các vị trí kế thừa và quản lý cấp trung\, cao trong tương lai\nKiểm tra được mức độ rõ ràng\, minh bạch trong công tác truyền thông và quản lý các cấp\n\nNội dung chương trình: \n\nPhần 01: Lãnh đạo và quản trị\nPhần 02: Quy luật nhu cầu\nPhần 03: Làm thế nào để trao quyền và giao việc thuận lợi\nPhần 04: Phương pháp giữ chân nhân viên\nPhần 05: Nguồn lực tinh thần và công cụ tạo động lực
URL:https://vsc.net.vn/lich-dao-tao/nghe-thuat-truyen-lua-trao-quyen-giao-viec/
CATEGORIES:Quản Lý - Lãnh Đạo
ATTACH;FMTTYPE=image/jpeg:https://vsc.net.vn/wp-content/uploads/2016/08/1073415878_Business-Associate.jpg
END:VEVENT
BEGIN:VEVENT
DTSTART;VALUE=DATE:20530203
DTEND;VALUE=DATE:20541110
DTSTAMP:20260425T174505
CREATED:20210531T135451Z
LAST-MODIFIED:20211125T064224Z
UID:5039-2622153600-2677881599@vsc.net.vn
SUMMARY:Become a Leader
DESCRIPTION:Mục tiêu chương trình:\n\nGiúp doanh nghiệp chuẩn hóa đội ngũ tập sự quản lý và quản lý với các nội dung được may đo để cung cấp và rèn luyện đội ngũ tinh nhuệ trong năng lực vận hành nhóm nhỏ – trung – cao \n\nNội dung chương trinh:\n\nXây dựng được chân dung Leader nhờ hiểu rõ và phân biệt được Leader và Lãnh đạo\nĐịnh hướng được bản thân dần trở thành người Leader đúng nghĩa\n3 cấp độ Leader (Small leader – Medium Leader – Big leader)\n3 loại Leader thường gặp (Ảo tưởng – Tiềm năng và Thực thụ)\n8 phong cách lãnh đạo thường gặp\n7 yếu tố tạo nên một Leader thực thụ – Và hiểu họ làm gì để tạo nên hệ thống\nThiết lập được mục tiêu cho Small leader\nHiểu được kim chỉ nam quan trọng trọng trong xây dựng kế hoạch và lập mục tiêu: Follow – Cam kết – Kỷ luật – Tận dụng đòn bẩy và tạo ra kết quả\nQuản lý thời gian và phân bổ khối lượng công việc hàng ngày hiệu quả\nNhận diện nan đề và xác định kết quả/ hậu quả của từng nan đề\nVượt qua bản ngã\, tiến đến thành công\nĐột phá khủng hoảng về bão hoà năng lực\, kết quả\, doanh số\,…\nTìm kiếm giải pháp từ Nhận thức thay đổi\nPhương pháp tạo động lực cho bản thân và đội ngũ từ công thức 3K
URL:https://vsc.net.vn/lich-dao-tao/become-a-leader/
CATEGORIES:Khởi nghề – Khởi nghiệp
ATTACH;FMTTYPE=image/png:https://vsc.net.vn/wp-content/uploads/2021/06/02.BTL-04.jpg-e1678287104687.png
END:VEVENT
BEGIN:VEVENT
DTSTART;TZID=Asia/Krasnoyarsk:20230702T000000
DTEND;TZID=Asia/Krasnoyarsk:20230702T000000
DTSTAMP:20260425T174505
CREATED:20210609T063848Z
LAST-MODIFIED:20210705T023846Z
UID:5575-1688256000-1688256000@vsc.net.vn
SUMMARY:Kỹ năng đàm phán\, thương thuyết trong kinh doanh
DESCRIPTION:Mục tiêu chương trình:\n\nBiết cách chuẩn bị tâm thế\, tác phong khi đi phỏng vấn\nBiết cách sử dụng ngôn ngữ hình thể\, trang phục phù hợp trong quá trình phỏng vấn\nTrả lời khéo léo các câu hỏi khó và đàm phán lương hiệu quả.\nPhương pháp kết thúc phỏng vấn để lại hình ảnh đẹp trong mắt nhà tuyển dụng.\n\nNội dung chương trình:\n\nCác hình thức phỏng vấn và chuẩn bị trước khi phỏng vấn\n3 giai đoạn Trước – Trong và Sau phỏng vấn\nTrang phục khi phỏng vấn – ăn mặc như thế nào?\nMô tả quá trình phỏng vấn và các câu hỏi thường gặp\nMột số mẹo và lưu ý khi trả lời và đặt câu hỏi cho nhà tuyển dụng\nCách ứng xử nào bị đánh giá tệ nhất\nMột số nguyên tắc khi đi phỏng vấn\nHạn chế của bạn trẻ vừa ra trường và cách khắc phục\nCác lưu ý khi đi phỏng vấn\n\n 
URL:https://vsc.net.vn/lich-dao-tao/ky-nang-dam-phan-thuong-thuyet-trong-kinh-doanh-2/
CATEGORIES:Sales & Marketing
ATTACH;FMTTYPE=image/jpeg:https://vsc.net.vn/wp-content/uploads/2018/01/1073415878_Business-Associate.jpg
END:VEVENT
BEGIN:VEVENT
DTSTART;TZID=UTC:20230305T000000
DTEND;TZID=UTC:20240103T235900
DTSTAMP:20260425T174505
CREATED:20210531T134117Z
LAST-MODIFIED:20210705T022027Z
UID:4997-1677974400-1704326340@vsc.net.vn
SUMMARY:NLP – Đánh thức sức mạnh nội tâm
DESCRIPTION:Mục tiêu chương trình\n\nCung cấp tư duy thành công của những nhà lãnh đạo xuất chúng nhất.\nThấu hiểu cách thức vận hành của tâm trí và cơ thể. Xác định những niềm tin\, thói quen tiêu cực khiến bản thân chưa đạt được những mục tiêu mong muốn.\n\nLập trình lại những suy nghĩ tích cực vào cuộc sống và mối quan hệ\, giúp cho học viên cài đặt những niềm tin mạnh mẽ vào chính bản thân và buông bỏ những cảm xúc tiêu cực\, luôn luôn có cho mình một trạng thái năng lượng đỉnh cao.\n\nLập trình những thói quen mới\, thái độ sống tích cực hơn. Rút ngắn thời gian tạo ra thành công và đột phá hơn trong sự nghiệp.\n\nGiúp học viên trở thành một nhà lãnh đạo tuyệt vời không những thấu hiểu chính mình mà còn thấu hiểu những người xung quanh từ đó tìm ra đúng cách thức để truyền động lực cho chính mình\, cho gia đình và cho đội nhóm.\n\nNội dung chương trình\n\nNhững giá trị sẽ lĩnh hội\nĐịnh nghĩa NLP \nCấu trúc chính của NLP\nCác phương pháp lập trình NLP\nPhương pháp của luật hấp dẫn\nYếu tố thực sự giúp bạn chắc chắn thành công\nNLP – Nghi thức thành công\nNLP – Nói trước công chúng\nTuyên bố tự tin
URL:https://vsc.net.vn/lich-dao-tao/nlp-danh-thuc-suc-manh-noi-tam-2/
LOCATION:LA Stadium\, 2 King Street\, La\, United States
CATEGORIES:Tư Duy Tích Cực, NLP
ATTACH;FMTTYPE=image/jpeg:https://vsc.net.vn/wp-content/uploads/2016/08/1073415878_Business-Associate.jpg
END:VEVENT
BEGIN:VEVENT
DTSTART;TZID=UTC:20230304T000000
DTEND;TZID=UTC:20241208T235900
DTSTAMP:20260425T174505
CREATED:20210531T135433Z
LAST-MODIFIED:20210705T022718Z
UID:5037-1677888000-1733702340@vsc.net.vn
SUMMARY:The startup
DESCRIPTION:Mục tiêu chương trình:\n\nPhát hiện những “chìa khoá” nâng cao nhận thức\, kiến thức\, rèn luyện kỹ năng\, tư duy tích cực và xây dựng hệ thống\nChiến lược kinh doanh\, kế hoạch hành động không chỉ nằm trong đầu hay trên giấy mà sẽ là triển khai thực tế và vận hành để đem lại hiệu quả cao nhất.\nỨng dụng tối đa vào công việc kinh doanh\, đội nhóm hay doanh nghiệp của chính bạn\nHiểu toàn diện về vai trò dẫn dắt của một lãnh đạo thực sự\nNhững kỹ năng sâu sắc và hiệu quả – những phương pháp\, công cụ và bí quyết phát huy điểm mạnh khắc phục điểm Yếu.\n\nNội dung chương trình:\n\nBạn hay chúng ta phải thay đổi\n\nMô hình Sự thay đổi bản thân\n03 niềm tin giới hạn\n03 niềm tin để có thành công lâu dài\n03 bước để thay đổi mãi mãi\nCông thức nhân bản\nĐịnh vị tài chính tương lai\n\n\nPDCA\n\nCông thức thành công cá nhân từ khởi nghề đến khởi nghiệp\nNhững nguyên tắc thành công\n05 cấp độ quản lý\n\n\n04 giai đoạn của chương trình khởi nghiệp thực tế \nThực hành qua các trò chơi teambuilding\n\n 
URL:https://vsc.net.vn/lich-dao-tao/the-startup/
CATEGORIES:Khởi nghề – Khởi nghiệp
ATTACH;FMTTYPE=image/jpeg:https://vsc.net.vn/wp-content/uploads/2021/05/02.STU-30-1-1.jpg
END:VEVENT
BEGIN:VEVENT
DTSTART;TZID=Asia/Krasnoyarsk:20210717T193000
DTEND;TZID=Asia/Krasnoyarsk:20210717T213000
DTSTAMP:20260425T174505
CREATED:20210713T101802Z
LAST-MODIFIED:20210713T101922Z
UID:7178-1626550200-1626557400@vsc.net.vn
SUMMARY:Quản Lý Thời Gian Để Làm Việc Hiệu Quả
DESCRIPTION:
URL:https://vsc.net.vn/lich-dao-tao/quan-ly-thoi-gian-de-lam-viec-hieu-qua/
CATEGORIES:Coatching
ATTACH;FMTTYPE=image/jpeg:https://vsc.net.vn/wp-content/uploads/2014/09/z2611392522405_1a47bfccb49f398f5fbdbec4c03146c9-scaled-e1626171242369.jpg
END:VEVENT
BEGIN:VEVENT
DTSTART;TZID=UTC:20210715T160000
DTEND;TZID=UTC:20210715T180000
DTSTAMP:20260425T174505
CREATED:20210531T100556Z
LAST-MODIFIED:20210710T134912Z
UID:4945-1626364800-1626372000@vsc.net.vn
SUMMARY:Nghệ Thuật Động Viên Trao Quyền Giao Việc
DESCRIPTION:
URL:https://vsc.net.vn/lich-dao-tao/nghe-thuat-dong-vien-trao-quyen-giao-viec-2/
LOCATION:Q.Tân Bình\, TPHCM\, 109 - 113 Shaftesbury Ave\, Soho\, London\, United Kingdom
CATEGORIES:Coatching
ATTACH;FMTTYPE=image/png:https://vsc.net.vn/wp-content/uploads/2014/09/rsz_z2605120732355_e8aa491e1576a356bce79468a5c0093c.png
END:VEVENT
BEGIN:VEVENT
DTSTART;TZID=UTC:20210715T090000
DTEND;TZID=UTC:20210715T110000
DTSTAMP:20260425T174505
CREATED:20210531T100046Z
LAST-MODIFIED:20210710T134659Z
UID:4939-1626339600-1626346800@vsc.net.vn
SUMMARY:Nghệ Thuật Động Viên Trao Quyền Giao Việc
DESCRIPTION:
URL:https://vsc.net.vn/lich-dao-tao/nghe-thuat-dong-vien-trao-quyen-giao-viec/
LOCATION:Q.Tân Bình\, TPHCM\, 109 - 113 Shaftesbury Ave\, Soho\, London\, United Kingdom
CATEGORIES:Coatching
ATTACH;FMTTYPE=image/png:https://vsc.net.vn/wp-content/uploads/2014/09/23.png
END:VEVENT
BEGIN:VEVENT
DTSTART;TZID=Asia/Krasnoyarsk:20210714T183000
DTEND;TZID=Asia/Krasnoyarsk:20210714T203000
DTSTAMP:20260425T174505
CREATED:20210712T145658Z
LAST-MODIFIED:20210712T150935Z
UID:7123-1626287400-1626294600@vsc.net.vn
SUMMARY:Thiếp Lập Mục Tiêu Và Lập Kế Hoạch Cá Nhân
DESCRIPTION:
URL:https://vsc.net.vn/lich-dao-tao/thiep-lap-muc-tieu-va-lap-ke-hoach-ca-nhan/
CATEGORIES:Coatching
ATTACH;FMTTYPE=image/jpeg:https://vsc.net.vn/wp-content/uploads/2021/07/1-2-scaled.jpg
END:VEVENT
BEGIN:VEVENT
DTSTART;TZID=UTC:20210714T090000
DTEND;TZID=UTC:20210714T113000
DTSTAMP:20260425T174505
CREATED:20210531T100534Z
LAST-MODIFIED:20210710T040808Z
UID:4943-1626253200-1626262200@vsc.net.vn
SUMMARY:Thiết lập mục tiêu và lập kế hoạch cá nhân
DESCRIPTION:
URL:https://vsc.net.vn/lich-dao-tao/thiet-lap-muc-tieu-va-lap-ke-hoach-ca-nhan/
LOCATION:Q.Tân Bình\, TPHCM\, 109 - 113 Shaftesbury Ave\, Soho\, London\, United Kingdom
CATEGORIES:Coatching
ATTACH;FMTTYPE=image/jpeg:https://vsc.net.vn/wp-content/uploads/2014/09/z2603280218244_eb69b48c16ff8319de4efa3e88534f70.jpg
END:VEVENT
END:VCALENDAR