BEGIN:VCALENDAR
VERSION:2.0
PRODID:-//VSC - ECPv6.9.1//NONSGML v1.0//EN
CALSCALE:GREGORIAN
METHOD:PUBLISH
X-WR-CALNAME:VSC
X-ORIGINAL-URL:https://vsc.net.vn
X-WR-CALDESC:Events for VSC
REFRESH-INTERVAL;VALUE=DURATION:PT1H
X-Robots-Tag:noindex
X-PUBLISHED-TTL:PT1H
BEGIN:VTIMEZONE
TZID:UTC
BEGIN:STANDARD
TZOFFSETFROM:+0000
TZOFFSETTO:+0000
TZNAME:UTC
DTSTART:20530101T000000
END:STANDARD
TZID:Asia/Krasnoyarsk
BEGIN:STANDARD
TZOFFSETFROM:+0700
TZOFFSETTO:+0700
TZNAME:+07
DTSTART:20530101T000000
END:STANDARD
END:VTIMEZONE
BEGIN:VEVENT
DTSTART;TZID=UTC:20530604T000000
DTEND;TZID=UTC:20550507T235900
DTSTAMP:20260425T061701
CREATED:20160819T174743Z
LAST-MODIFIED:20210705T055333Z
UID:2233-2632608000-2693347140@vsc.net.vn
SUMMARY:Train the trainer Advance Level – Nghệ thuật hùng biện dành cho lãnh đạo
DESCRIPTION:
URL:https://vsc.net.vn/lich-dao-tao/train-the-trainer-advance-level-nghe-thuat-hung-bien-danh-cho-lanh-dao/
CATEGORIES:Quản Lý - Lãnh Đạo
ATTACH;FMTTYPE=image/jpeg:https://vsc.net.vn/wp-content/uploads/2016/08/1073415878_Business-Associate.jpg
END:VEVENT
BEGIN:VEVENT
DTSTART;VALUE=DATE:20530702
DTEND;VALUE=DATE:20550408
DTSTAMP:20260425T061701
CREATED:20210531T135333Z
LAST-MODIFIED:20230717T091022Z
UID:5033-2635027200-2690755199@vsc.net.vn
SUMMARY:Gương mặt truyền cảm hứng
DESCRIPTION:Mục tiêu chương trình: \n\nGiúp học viên chỉnh sửa giọng hiện tại\, khắc phục điểm yếu\, tạo điểm nhấn\, thu hút\, truyền cảm cho học viên\nGiúp học viên làm chủ được một bài nói chuyện\, bài đào tạo chuyên nghiệp\nXây dựng phong cách trình bày thu hút\, ấn tượng\nGiúp học viên tự tin trước camera và linh hoạt trong các tình huống khi chia sẻ trước công chúng\n\nNội dung chương trình: \n\nĐánh thức giọng nói vàng\n\nLuyện hơi bụng\nLuyện đọc \nLuyện giọng truyền cảm\n\n\nThu âm và luyện tập giọng nói vàng\nLuyện kỹ năng nói – thuyết trình\n\nXây dựng bài giới thiệu bản thân chuyên nghiệp\nXây dựng tư duy và mắt thẩm mỹ của một người thiết kế slide đào tạo chuyên nghiệp\n\n\nLuyện kỹ hùng biện\n\nNắm giữ các bí quyết thu hút\, games trên sân khấu\nLuyện tập ứng khẩu\, hùng biện theo chủ đề\n\n\nTự tin trước ống kính\, xây dựng phong thái sân khấu\nThi tốt nghiệp\n\nTrình bày trước ống kính (video profile cá nhân)\nBài nói trước ban giám khảo và lớp.\n\n\n\n 
URL:https://vsc.net.vn/lich-dao-tao/guong-mat-truyen-cam-hung/
CATEGORIES:Kĩ Năng Mềm
ATTACH;FMTTYPE=image/jpeg:https://vsc.net.vn/wp-content/uploads/2018/01/WEBSITE-scaled.jpg
END:VEVENT
BEGIN:VEVENT
DTSTART;TZID=Asia/Krasnoyarsk:20530702T000000
DTEND;TZID=Asia/Krasnoyarsk:20550721T235900
DTSTAMP:20260425T061701
CREATED:20180111T044647Z
LAST-MODIFIED:20210705T054128Z
UID:3654-2635027200-2699827140@vsc.net.vn
SUMMARY:Xây dựng tác phong chuyên nghiệp
DESCRIPTION:
URL:https://vsc.net.vn/lich-dao-tao/xay-dung-tac-phong-chuyen-nghiep/
LOCATION:Q.Tân Bình\, TPHCM\, 109 - 113 Shaftesbury Ave\, Soho\, London\, United Kingdom
CATEGORIES:Công Nghệ Ứng Dụng
ATTACH;FMTTYPE=image/jpeg:https://vsc.net.vn/wp-content/uploads/2016/08/1073415878_Business-Associate.jpg
END:VEVENT
END:VCALENDAR