BEGIN:VCALENDAR
VERSION:2.0
PRODID:-//VSC - ECPv6.9.1//NONSGML v1.0//EN
CALSCALE:GREGORIAN
METHOD:PUBLISH
X-WR-CALNAME:VSC
X-ORIGINAL-URL:https://vsc.net.vn
X-WR-CALDESC:Events for VSC
REFRESH-INTERVAL;VALUE=DURATION:PT1H
X-Robots-Tag:noindex
X-PUBLISHED-TTL:PT1H
BEGIN:VTIMEZONE
TZID:Asia/Krasnoyarsk
BEGIN:STANDARD
TZOFFSETFROM:+0700
TZOFFSETTO:+0700
TZNAME:+07
DTSTART:20530101T000000
END:STANDARD
END:VTIMEZONE
BEGIN:VEVENT
DTSTART;TZID=Asia/Krasnoyarsk:20530507T000000
DTEND;TZID=Asia/Krasnoyarsk:20570507T235900
DTSTAMP:20260425T205153
CREATED:20210531T134858Z
LAST-MODIFIED:20210705T055405Z
UID:5015-2630188800-2756505540@vsc.net.vn
SUMMARY:Đột phá doanh số từ Telesale
DESCRIPTION:Mục tiêu chương trình:\n\nĐịnh hình lại tư duy của một người làm sale chân chính\nHiểu được lý do vì sao telesale không thành công\nNắm được phương pháp để trở thành người bán hàng xuất sắc.\nNắm được các kịch bản telesale thường gặp và cách vận dụng\nNắm được phương pháp xử lý từ chối khách hàng\nNhận diện được từng kiểu khách hàng\n\nNội dung chương trình:\n\nĐịnh hình lại tư duy của một người bán hàng chân chính\nBản chất của việc bán hàng\nChìa khóa giúp bán hàng qua điện thoại thành công\nLý do chốt sale chưa thành công\nTừ khóa của những nhà bán hàng xuất sắc\nCông thức A.I.D.A.S\nCác kịch bản telesale kinh điển.\nCác bước xử lý từ chối\nCác loại khách hàng thường gặp
URL:https://vsc.net.vn/lich-dao-tao/dot-pha-doanh-so-tu-telesale/
CATEGORIES:Sales & Marketing
ATTACH;FMTTYPE=image/jpeg:https://vsc.net.vn/wp-content/uploads/2018/01/1073415878_Business-Associate.jpg
END:VEVENT
END:VCALENDAR