BEGIN:VCALENDAR
VERSION:2.0
PRODID:-//VSC - ECPv6.9.1//NONSGML v1.0//EN
CALSCALE:GREGORIAN
METHOD:PUBLISH
X-WR-CALNAME:VSC
X-ORIGINAL-URL:https://vsc.net.vn
X-WR-CALDESC:Events for VSC
REFRESH-INTERVAL;VALUE=DURATION:PT1H
X-Robots-Tag:noindex
X-PUBLISHED-TTL:PT1H
BEGIN:VTIMEZONE
TZID:UTC
BEGIN:STANDARD
TZOFFSETFROM:+0000
TZOFFSETTO:+0000
TZNAME:UTC
DTSTART:20530101T000000
END:STANDARD
END:VTIMEZONE
BEGIN:VEVENT
DTSTART;TZID=UTC:20530402T000000
DTEND;TZID=UTC:20550106T235900
DTSTAMP:20260425T073336
CREATED:20210531T135534Z
LAST-MODIFIED:20210705T055508Z
UID:5041-2627164800-2682892740@vsc.net.vn
SUMMARY:12 Modules cho người khởi nghề
DESCRIPTION:Mục tiêu chương trình:\n\nCung cấp cho học viên những kiến thức áp dụng ngay lập tức trong một môi trường kinh doanh thực tế\nHọc viên biết cách xây dựng chiến lược kinh doanh hiệu quả\nGiúp học viên có cái nhìn tổng quan\, đầy đủ các khái niệm và mô hình cốt lõi nhất trong kinh doanh. \n\nNội dung chương trinh:\n\nMD01: Nền tảng thành công\nMD02: Thiết lập mục tiêu cá nhân\nMD03: Định vị sản phẩm và quy trình bán hàng\nMD04: Marketing offline\nMD05: Kỹ năng xây dựng thương hiệu cá nhân\nMD06: Marketing online\nMD07: Content bán hàng\nMD08: Kỹ năng telesale\, chốt sale và xử lý từ chối\nMD09: Lộ trình thăng tiến\nMD10: Quy trình chăm sóc khách hàng\, upsell\nMD11: Quản lý tài chính hiệu quả\nMD12: Quản lý thời gian hiệu quả\n\n 
URL:https://vsc.net.vn/lich-dao-tao/12-modules-cho-nguoi-khoi-nghe/
CATEGORIES:Khởi nghề – Khởi nghiệp
ATTACH;FMTTYPE=image/jpeg:https://vsc.net.vn/wp-content/uploads/2018/01/1073415878_Business-Associate-1.jpg
END:VEVENT
END:VCALENDAR